Package: biodbKegg Version: 1.8.0 Command: /Library/Frameworks/R.framework/Resources/bin/R CMD INSTALL biodbKegg StartedAt: 2024-04-16 11:50:55 -0400 (Tue, 16 Apr 2024) EndedAt: 2024-04-16 11:51:12 -0400 (Tue, 16 Apr 2024) EllapsedTime: 16.9 seconds RetCode: 0 Status: OK