Package: biodbChebi Version: 1.8.0 Command: /Library/Frameworks/R.framework/Resources/bin/R CMD build --keep-empty-dirs --no-resave-data biodbChebi StartedAt: 2024-04-16 14:20:10 -0400 (Tue, 16 Apr 2024) EndedAt: 2024-04-16 14:20:33 -0400 (Tue, 16 Apr 2024) EllapsedTime: 22.9 seconds RetCode: 0 Status: OK PackageFile: biodbChebi_1.8.0.tar.gz PackageFileSize: 312.2 KiB