Package: biodbChebi Version: 1.8.0 Command: rm -rf biodbChebi.buildbin-libdir && mkdir biodbChebi.buildbin-libdir && /Users/biocbuild/BBS/utils/build-universal.sh biodbChebi_1.8.0.tar.gz /Library/Frameworks/R.framework/Resources/bin/R biodbChebi.buildbin-libdir StartedAt: 2024-04-18 08:24:47 -0400 (Thu, 18 Apr 2024) EndedAt: 2024-04-18 08:25:00 -0400 (Thu, 18 Apr 2024) EllapsedTime: 12.6 seconds RetCode: 0 Status: OK PackageFile: biodbChebi_1.8.0.tgz PackageFileSize: 398.4 KiB