Package: biocGraph Version: 1.64.0 Maintainer: Florian Hahne MaintainerEmail: florian.hahne at novartis.com git_url: https://git.bioconductor.org/packages/biocGraph git_branch: RELEASE_3_18 git_last_commit: 5928a24 git_last_commit_date: 2023-10-24 09:38:39 -0400 (Tue, 24 Oct 2023)