Package: biobtreeR Version: 1.13.0 Command: /Library/Frameworks/R.framework/Resources/bin/R CMD INSTALL biobtreeR StartedAt: 2023-05-02 13:07:37 -0400 (Tue, 02 May 2023) EndedAt: 2023-05-02 13:07:40 -0400 (Tue, 02 May 2023) EllapsedTime: 3.1 seconds RetCode: 0 Status: OK