Package: biobtreeR Version: 1.13.0 Command: /Library/Frameworks/R.framework/Resources/bin/R CMD build --keep-empty-dirs --no-resave-data biobtreeR StartedAt: 2023-05-02 13:39:12 -0400 (Tue, 02 May 2023) EndedAt: 2023-05-02 13:39:23 -0400 (Tue, 02 May 2023) EllapsedTime: 10.2 seconds RetCode: 1 Status: ERROR PackageFile: None PackageFileSize: NA