Package: biobtreeR Version: 1.14.0 Maintainer: Tamer Gur MaintainerEmail: tgur at ebi.ac.uk git_url: https://git.bioconductor.org/packages/biobtreeR git_branch: RELEASE_3_18 git_last_commit: b97b014 git_last_commit_date: 2023-10-24 11:18:36 -0400 (Tue, 24 Oct 2023)