Package: bioCancer Version: 1.30.8 Command: /Library/Frameworks/R.framework/Resources/bin/R CMD check --install=check:bioCancer.install-out.txt --library=/Library/Frameworks/R.framework/Resources/library --no-vignettes --timings bioCancer_1.30.8.tar.gz StartedAt: 2024-04-17 06:57:08 -0400 (Wed, 17 Apr 2024) EndedAt: 2024-04-17 07:04:33 -0400 (Wed, 17 Apr 2024) EllapsedTime: 445.1 seconds RetCode: 0 Status: OK CheckDir: bioCancer.Rcheck Warnings: 0