Package: bioCancer Version: 1.30.8 Command: rm -rf bioCancer.buildbin-libdir && mkdir bioCancer.buildbin-libdir && /Users/biocbuild/BBS/utils/build-universal.sh bioCancer_1.30.8.tar.gz /Library/Frameworks/R.framework/Resources/bin/R bioCancer.buildbin-libdir StartedAt: 2024-04-18 08:23:19 -0400 (Thu, 18 Apr 2024) EndedAt: 2024-04-18 08:24:47 -0400 (Thu, 18 Apr 2024) EllapsedTime: 88.4 seconds RetCode: 0 Status: OK PackageFile: bioCancer_1.30.8.tgz PackageFileSize: 6.535 MiB