Package: bigPint Version: 1.18.1 Command: /Library/Frameworks/R.framework/Resources/bin/R CMD INSTALL bigPint StartedAt: 2024-04-16 11:39:49 -0400 (Tue, 16 Apr 2024) EndedAt: 2024-04-16 11:40:26 -0400 (Tue, 16 Apr 2024) EllapsedTime: 36.8 seconds RetCode: 0 Status: OK