Package: bgx Version: 1.68.3 Command: rm -rf bgx.buildbin-libdir && mkdir bgx.buildbin-libdir && /Users/biocbuild/BBS/utils/build-universal.sh bgx_1.68.3.tar.gz /Library/Frameworks/R.framework/Resources/bin/R bgx.buildbin-libdir StartedAt: 2024-04-18 08:21:59 -0400 (Thu, 18 Apr 2024) EndedAt: 2024-04-18 08:22:58 -0400 (Thu, 18 Apr 2024) EllapsedTime: 59.4 seconds RetCode: 0 Status: OK PackageFile: bgx_1.68.3.tgz PackageFileSize: 391.3 KiB