Package: beachmat.hdf5 Version: 1.0.0 Command: /Library/Frameworks/R.framework/Resources/bin/R CMD check --install=check:beachmat.hdf5.install-out.txt --library=/Library/Frameworks/R.framework/Resources/library --no-vignettes --timings beachmat.hdf5_1.0.0.tar.gz StartedAt: 2024-04-17 06:35:21 -0400 (Wed, 17 Apr 2024) EndedAt: 2024-04-17 06:37:50 -0400 (Wed, 17 Apr 2024) EllapsedTime: 149.5 seconds RetCode: 0 Status: WARNINGS CheckDir: beachmat.hdf5.Rcheck Warnings: 1