Package: beachmat.hdf5 Version: 1.0.0 Maintainer: Aaron Lun MaintainerEmail: infinite.monkeys.with.keyboards at gmail.com git_url: https://git.bioconductor.org/packages/beachmat.hdf5 git_branch: RELEASE_3_18 git_last_commit: be7f6c9 git_last_commit_date: 2023-10-24 11:50:38 -0400 (Tue, 24 Oct 2023)