Package: bayNorm Version: 1.20.0 Command: /Library/Frameworks/R.framework/Resources/bin/R CMD build --keep-empty-dirs --no-resave-data bayNorm StartedAt: 2024-04-16 13:55:30 -0400 (Tue, 16 Apr 2024) EndedAt: 2024-04-16 13:56:38 -0400 (Tue, 16 Apr 2024) EllapsedTime: 67.6 seconds RetCode: 0 Status: OK PackageFile: bayNorm_1.20.0.tar.gz PackageFileSize: 1.526 MiB