Package: basecallQC Version: 1.26.0 Command: rm -rf basecallQC.buildbin-libdir && mkdir basecallQC.buildbin-libdir && /Users/biocbuild/BBS/utils/build-universal.sh basecallQC_1.26.0.tar.gz /Library/Frameworks/R.framework/Resources/bin/R basecallQC.buildbin-libdir StartedAt: 2024-04-18 08:17:35 -0400 (Thu, 18 Apr 2024) EndedAt: 2024-04-18 08:18:53 -0400 (Thu, 18 Apr 2024) EllapsedTime: 77.2 seconds RetCode: 0 Status: OK PackageFile: basecallQC_1.26.0.tgz PackageFileSize: 1.259 MiB