Package: bacon Version: 1.30.0 Command: /Library/Frameworks/R.framework/Resources/bin/R CMD build --keep-empty-dirs --no-resave-data bacon StartedAt: 2024-04-16 13:44:36 -0400 (Tue, 16 Apr 2024) EndedAt: 2024-04-16 13:45:14 -0400 (Tue, 16 Apr 2024) EllapsedTime: 37.9 seconds RetCode: 0 Status: OK PackageFile: bacon_1.30.0.tar.gz PackageFileSize: 2.072 MiB