Package: attract Version: 1.54.0 Command: rm -rf attract.buildbin-libdir && mkdir attract.buildbin-libdir && /Users/biocbuild/BBS/utils/build-universal.sh attract_1.54.0.tar.gz /Library/Frameworks/R.framework/Resources/bin/R attract.buildbin-libdir StartedAt: 2024-04-18 08:15:49 -0400 (Thu, 18 Apr 2024) EndedAt: 2024-04-18 08:16:27 -0400 (Thu, 18 Apr 2024) EllapsedTime: 38.5 seconds RetCode: 0 Status: OK PackageFile: attract_1.54.0.tgz PackageFileSize: 4.363 MiB