Package: artMS Version: 1.20.0 Command: /Library/Frameworks/R.framework/Resources/bin/R CMD build --keep-empty-dirs --no-resave-data artMS StartedAt: 2024-04-16 13:32:55 -0400 (Tue, 16 Apr 2024) EndedAt: 2024-04-16 13:34:00 -0400 (Tue, 16 Apr 2024) EllapsedTime: 65.3 seconds RetCode: 0 Status: OK PackageFile: artMS_1.20.0.tar.gz PackageFileSize: 3.941 MiB