Package: antiProfiles Version: 1.42.0 Command: /Library/Frameworks/R.framework/Resources/bin/R CMD check --install=check:antiProfiles.install-out.txt --library=/Library/Frameworks/R.framework/Resources/library --no-vignettes --timings antiProfiles_1.42.0.tar.gz StartedAt: 2024-04-17 05:41:24 -0400 (Wed, 17 Apr 2024) EndedAt: 2024-04-17 05:41:51 -0400 (Wed, 17 Apr 2024) EllapsedTime: 27.1 seconds RetCode: 0 Status: OK CheckDir: antiProfiles.Rcheck Warnings: 0