Package: alabaster.se Version: 1.2.0 Command: rm -rf alabaster.se.buildbin-libdir && mkdir alabaster.se.buildbin-libdir && /Users/biocbuild/BBS/utils/build-universal.sh alabaster.se_1.2.0.tar.gz /Library/Frameworks/R.framework/Resources/bin/R alabaster.se.buildbin-libdir StartedAt: 2024-04-18 08:10:23 -0400 (Thu, 18 Apr 2024) EndedAt: 2024-04-18 08:11:01 -0400 (Thu, 18 Apr 2024) EllapsedTime: 37.8 seconds RetCode: 0 Status: OK PackageFile: alabaster.se_1.2.0.tgz PackageFileSize: 305.5 KiB