Package: alabaster.files Version: 1.0.0 Command: rm -rf alabaster.files.buildbin-libdir && mkdir alabaster.files.buildbin-libdir && /Users/biocbuild/BBS/utils/build-universal.sh alabaster.files_1.0.0.tar.gz /Library/Frameworks/R.framework/Resources/bin/R alabaster.files.buildbin-libdir StartedAt: 2024-04-18 08:09:44 -0400 (Thu, 18 Apr 2024) EndedAt: 2024-04-18 08:10:35 -0400 (Thu, 18 Apr 2024) EllapsedTime: 51.2 seconds RetCode: 0 Status: OK PackageFile: alabaster.files_1.0.0.tgz PackageFileSize: 605.2 KiB