Package: affylmGUI Version: 1.76.0 Command: /Library/Frameworks/R.framework/Resources/bin/R CMD build --keep-empty-dirs --no-resave-data affylmGUI StartedAt: 2024-04-16 13:13:08 -0400 (Tue, 16 Apr 2024) EndedAt: 2024-04-16 13:13:27 -0400 (Tue, 16 Apr 2024) EllapsedTime: 19.2 seconds RetCode: 0 Status: OK PackageFile: affylmGUI_1.76.0.tar.gz PackageFileSize: 1.758 MiB