Package: affylmGUI Version: 1.76.0 Command: rm -rf affylmGUI.buildbin-libdir && mkdir affylmGUI.buildbin-libdir && /Users/biocbuild/BBS/utils/build-universal.sh affylmGUI_1.76.0.tar.gz /Library/Frameworks/R.framework/Resources/bin/R affylmGUI.buildbin-libdir StartedAt: 2024-04-18 08:08:11 -0400 (Thu, 18 Apr 2024) EndedAt: 2024-04-18 08:08:40 -0400 (Thu, 18 Apr 2024) EllapsedTime: 29.3 seconds RetCode: 0 Status: OK PackageFile: affylmGUI_1.76.0.tgz PackageFileSize: 2.146 MiB