Package: adSplit Version: 1.72.0 Command: /Library/Frameworks/R.framework/Resources/bin/R CMD build --keep-empty-dirs --no-resave-data adSplit StartedAt: 2024-04-16 13:11:49 -0400 (Tue, 16 Apr 2024) EndedAt: 2024-04-16 13:13:07 -0400 (Tue, 16 Apr 2024) EllapsedTime: 77.4 seconds RetCode: 0 Status: OK PackageFile: adSplit_1.72.0.tar.gz PackageFileSize: 536.7 KiB