Package: acde Version: 1.32.0 Command: rm -rf acde.buildbin-libdir && mkdir acde.buildbin-libdir && /Users/biocbuild/BBS/utils/build-universal.sh acde_1.32.0.tar.gz /Library/Frameworks/R.framework/Resources/bin/R acde.buildbin-libdir StartedAt: 2024-04-18 08:07:06 -0400 (Thu, 18 Apr 2024) EndedAt: 2024-04-18 08:07:14 -0400 (Thu, 18 Apr 2024) EllapsedTime: 7.9 seconds RetCode: 0 Status: OK PackageFile: acde_1.32.0.tgz PackageFileSize: 8.173 MiB