Package: abseqR Version: 1.20.0 Command: /Library/Frameworks/R.framework/Resources/bin/R CMD INSTALL abseqR StartedAt: 2024-04-16 11:39:35 -0400 (Tue, 16 Apr 2024) EndedAt: 2024-04-16 11:39:49 -0400 (Tue, 16 Apr 2024) EllapsedTime: 13.8 seconds RetCode: 0 Status: OK