Package: abseqR Version: 1.20.0 Command: /Library/Frameworks/R.framework/Resources/bin/R CMD check --install=check:abseqR.install-out.txt --library=/Library/Frameworks/R.framework/Resources/library --no-vignettes --timings abseqR_1.20.0.tar.gz StartedAt: 2024-04-17 05:01:55 -0400 (Wed, 17 Apr 2024) EndedAt: 2024-04-17 05:04:13 -0400 (Wed, 17 Apr 2024) EllapsedTime: 137.7 seconds RetCode: 0 Status: OK CheckDir: abseqR.Rcheck Warnings: 0