Package: abseqR Version: 1.20.0 Command: /Library/Frameworks/R.framework/Resources/bin/R CMD build --keep-empty-dirs --no-resave-data abseqR StartedAt: 2024-04-16 13:08:31 -0400 (Tue, 16 Apr 2024) EndedAt: 2024-04-16 13:12:43 -0400 (Tue, 16 Apr 2024) EllapsedTime: 252.2 seconds RetCode: 0 Status: OK PackageFile: abseqR_1.20.0.tar.gz PackageFileSize: 2.921 MiB