Package: a4Reporting Version: 1.50.0 Command: /Library/Frameworks/R.framework/Resources/bin/R CMD build --keep-empty-dirs --no-resave-data a4Reporting StartedAt: 2024-04-16 13:08:21 -0400 (Tue, 16 Apr 2024) EndedAt: 2024-04-16 13:08:27 -0400 (Tue, 16 Apr 2024) EllapsedTime: 5.7 seconds RetCode: 0 Status: OK PackageFile: a4Reporting_1.50.0.tar.gz PackageFileSize: 292.8 KiB