Package: a4Preproc Version: 1.50.0 Command: rm -rf a4Preproc.buildbin-libdir && mkdir a4Preproc.buildbin-libdir && /Users/biocbuild/BBS/utils/build-universal.sh a4Preproc_1.50.0.tar.gz /Library/Frameworks/R.framework/Resources/bin/R a4Preproc.buildbin-libdir StartedAt: 2024-04-18 08:06:55 -0400 (Thu, 18 Apr 2024) EndedAt: 2024-04-18 08:07:00 -0400 (Thu, 18 Apr 2024) EllapsedTime: 5.7 seconds RetCode: 0 Status: OK PackageFile: a4Preproc_1.50.0.tgz PackageFileSize: 296.9 KiB