Package: a4 Version: 1.50.1 Command: rm -rf a4.buildbin-libdir && mkdir a4.buildbin-libdir && /Users/biocbuild/BBS/utils/build-universal.sh a4_1.50.1.tar.gz /Library/Frameworks/R.framework/Resources/bin/R a4.buildbin-libdir StartedAt: 2024-04-18 08:06:55 -0400 (Thu, 18 Apr 2024) EndedAt: 2024-04-18 08:07:25 -0400 (Thu, 18 Apr 2024) EllapsedTime: 30.6 seconds RetCode: 0 Status: OK PackageFile: a4_1.50.1.tgz PackageFileSize: 1.185 MiB