Package: ZygosityPredictor Version: 1.2.0 Command: /Library/Frameworks/R.framework/Resources/bin/R CMD check --install=check:ZygosityPredictor.install-out.txt --library=/Library/Frameworks/R.framework/Resources/library --no-vignettes --timings ZygosityPredictor_1.2.0.tar.gz StartedAt: 2024-04-18 07:58:50 -0400 (Thu, 18 Apr 2024) EndedAt: 2024-04-18 08:04:22 -0400 (Thu, 18 Apr 2024) EllapsedTime: 332.2 seconds RetCode: 0 Status: OK CheckDir: ZygosityPredictor.Rcheck Warnings: 0