Package: ZygosityPredictor Version: 1.2.0 Command: /Library/Frameworks/R.framework/Resources/bin/R CMD build --keep-empty-dirs --no-resave-data ZygosityPredictor StartedAt: 2024-04-17 04:58:52 -0400 (Wed, 17 Apr 2024) EndedAt: 2024-04-17 05:00:11 -0400 (Wed, 17 Apr 2024) EllapsedTime: 79.4 seconds RetCode: 0 Status: OK PackageFile: ZygosityPredictor_1.2.0.tar.gz PackageFileSize: 634.3 KiB