Package: Xeva Version: 1.18.0 Command: /Library/Frameworks/R.framework/Resources/bin/R CMD build --keep-empty-dirs --no-resave-data Xeva StartedAt: 2024-04-17 04:52:30 -0400 (Wed, 17 Apr 2024) EndedAt: 2024-04-17 04:53:53 -0400 (Wed, 17 Apr 2024) EllapsedTime: 83.4 seconds RetCode: 0 Status: OK PackageFile: Xeva_1.18.0.tar.gz PackageFileSize: 1.571 MiB