Package: VegaMC Version: 3.40.0 Command: /Library/Frameworks/R.framework/Resources/bin/R CMD INSTALL VegaMC StartedAt: 2024-04-16 11:05:38 -0400 (Tue, 16 Apr 2024) EndedAt: 2024-04-16 11:05:59 -0400 (Tue, 16 Apr 2024) EllapsedTime: 20.9 seconds RetCode: 0 Status: OK