Package: VegaMC Version: 3.40.0 Command: /Library/Frameworks/R.framework/Resources/bin/R CMD check --install=check:VegaMC.install-out.txt --library=/Library/Frameworks/R.framework/Resources/library --no-vignettes --timings VegaMC_3.40.0.tar.gz StartedAt: 2024-04-18 07:25:47 -0400 (Thu, 18 Apr 2024) EndedAt: 2024-04-18 07:28:01 -0400 (Thu, 18 Apr 2024) EllapsedTime: 134.3 seconds RetCode: 0 Status: WARNINGS CheckDir: VegaMC.Rcheck Warnings: 2