Package: VanillaICE Version: 1.64.1 Command: /Library/Frameworks/R.framework/Resources/bin/R CMD INSTALL VanillaICE StartedAt: 2024-04-16 10:53:02 -0400 (Tue, 16 Apr 2024) EndedAt: 2024-04-16 10:53:47 -0400 (Tue, 16 Apr 2024) EllapsedTime: 45.0 seconds RetCode: 0 Status: OK