Package: VanillaICE Version: 1.64.1 Command: /Library/Frameworks/R.framework/Resources/bin/R CMD build --keep-empty-dirs --no-resave-data VanillaICE StartedAt: 2024-04-17 04:32:32 -0400 (Wed, 17 Apr 2024) EndedAt: 2024-04-17 04:33:58 -0400 (Wed, 17 Apr 2024) EllapsedTime: 86.1 seconds RetCode: 0 Status: OK PackageFile: VanillaICE_1.64.1.tar.gz PackageFileSize: 2.071 MiB