Package: VanillaICE Version: 1.64.1 Command: rm -rf VanillaICE.buildbin-libdir && mkdir VanillaICE.buildbin-libdir && /Users/biocbuild/BBS/utils/build-universal.sh VanillaICE_1.64.1.tar.gz /Library/Frameworks/R.framework/Resources/bin/R VanillaICE.buildbin-libdir StartedAt: 2024-04-15 10:53:30 -0400 (Mon, 15 Apr 2024) EndedAt: 2024-04-15 10:54:27 -0400 (Mon, 15 Apr 2024) EllapsedTime: 57.1 seconds RetCode: 0 Status: OK PackageFile: VanillaICE_1.64.1.tgz PackageFileSize: 3.003 MiB