Package: VERSO Version: 1.12.0 Command: /Library/Frameworks/R.framework/Resources/bin/R CMD check --install=check:VERSO.install-out.txt --library=/Library/Frameworks/R.framework/Resources/library --no-vignettes --timings VERSO_1.12.0.tar.gz StartedAt: 2024-04-18 07:28:01 -0400 (Thu, 18 Apr 2024) EndedAt: 2024-04-18 07:28:40 -0400 (Thu, 18 Apr 2024) EllapsedTime: 38.1 seconds RetCode: 0 Status: OK CheckDir: VERSO.Rcheck Warnings: 0