Package: VERSO Version: 1.12.0 Command: /Library/Frameworks/R.framework/Resources/bin/R CMD build --keep-empty-dirs --no-resave-data VERSO StartedAt: 2024-04-17 04:41:49 -0400 (Wed, 17 Apr 2024) EndedAt: 2024-04-17 04:41:58 -0400 (Wed, 17 Apr 2024) EllapsedTime: 9.2 seconds RetCode: 0 Status: OK PackageFile: VERSO_1.12.0.tar.gz PackageFileSize: 626.1 KiB