Package: VERSO Version: 1.12.0 Command: rm -rf VERSO.buildbin-libdir && mkdir VERSO.buildbin-libdir && /Users/biocbuild/BBS/utils/build-universal.sh VERSO_1.12.0.tar.gz /Library/Frameworks/R.framework/Resources/bin/R VERSO.buildbin-libdir StartedAt: 2024-04-15 10:55:35 -0400 (Mon, 15 Apr 2024) EndedAt: 2024-04-15 10:55:40 -0400 (Mon, 15 Apr 2024) EllapsedTime: 5.8 seconds RetCode: 0 Status: OK PackageFile: VERSO_1.12.0.tgz PackageFileSize: 664.9 KiB