Package: VDJdive Version: 1.4.0 Command: /Library/Frameworks/R.framework/Resources/bin/R CMD check --install=check:VDJdive.install-out.txt --library=/Library/Frameworks/R.framework/Resources/library --no-vignettes --timings VDJdive_1.4.0.tar.gz StartedAt: 2024-04-18 07:25:01 -0400 (Thu, 18 Apr 2024) EndedAt: 2024-04-18 07:30:48 -0400 (Thu, 18 Apr 2024) EllapsedTime: 346.2 seconds RetCode: 0 Status: OK CheckDir: VDJdive.Rcheck Warnings: 0