Package: VCFArray Version: 1.18.0 Command: /Library/Frameworks/R.framework/Resources/bin/R CMD INSTALL VCFArray StartedAt: 2024-04-16 11:11:10 -0400 (Tue, 16 Apr 2024) EndedAt: 2024-04-16 11:12:07 -0400 (Tue, 16 Apr 2024) EllapsedTime: 57.3 seconds RetCode: 0 Status: OK