Package: VCFArray Version: 1.18.0 Command: /Library/Frameworks/R.framework/Resources/bin/R CMD check --install=check:VCFArray.install-out.txt --library=/Library/Frameworks/R.framework/Resources/library --no-vignettes --timings VCFArray_1.18.0.tar.gz StartedAt: 2024-04-18 07:23:42 -0400 (Thu, 18 Apr 2024) EndedAt: 2024-04-18 07:30:10 -0400 (Thu, 18 Apr 2024) EllapsedTime: 388.1 seconds RetCode: 0 Status: OK CheckDir: VCFArray.Rcheck Warnings: 0