Package: VCFArray Version: 1.18.0 Command: rm -rf VCFArray.buildbin-libdir && mkdir VCFArray.buildbin-libdir && /Users/biocbuild/BBS/utils/build-universal.sh VCFArray_1.18.0.tar.gz /Library/Frameworks/R.framework/Resources/bin/R VCFArray.buildbin-libdir StartedAt: 2024-04-15 10:54:42 -0400 (Mon, 15 Apr 2024) EndedAt: 2024-04-15 10:55:53 -0400 (Mon, 15 Apr 2024) EllapsedTime: 71.1 seconds RetCode: 0 Status: OK PackageFile: VCFArray_1.18.0.tgz PackageFileSize: 1.039 MiB