Package: VAExprs Version: 1.8.0 Command: /Library/Frameworks/R.framework/Resources/bin/R CMD build --keep-empty-dirs --no-resave-data VAExprs StartedAt: 2024-04-17 04:32:23 -0400 (Wed, 17 Apr 2024) EndedAt: 2024-04-17 04:33:19 -0400 (Wed, 17 Apr 2024) EllapsedTime: 55.5 seconds RetCode: 0 Status: OK PackageFile: VAExprs_1.8.0.tar.gz PackageFileSize: 561.7 KiB