Package: UniProt.ws Version: 2.42.0 Command: /Library/Frameworks/R.framework/Resources/bin/R CMD INSTALL UniProt.ws StartedAt: 2024-04-16 11:01:01 -0400 (Tue, 16 Apr 2024) EndedAt: 2024-04-16 11:01:21 -0400 (Tue, 16 Apr 2024) EllapsedTime: 19.7 seconds RetCode: 0 Status: OK