Package: UniProt.ws Version: 2.42.0 Command: /Library/Frameworks/R.framework/Resources/bin/R CMD build --keep-empty-dirs --no-resave-data UniProt.ws StartedAt: 2024-04-17 04:30:27 -0400 (Wed, 17 Apr 2024) EndedAt: 2024-04-17 04:30:57 -0400 (Wed, 17 Apr 2024) EllapsedTime: 30.6 seconds RetCode: 0 Status: OK PackageFile: UniProt.ws_2.42.0.tar.gz PackageFileSize: 236.2 KiB