Package: TreeAndLeaf Version: 1.14.0 Command: rm -rf TreeAndLeaf.buildbin-libdir && mkdir TreeAndLeaf.buildbin-libdir && /Users/biocbuild/BBS/utils/build-universal.sh TreeAndLeaf_1.14.0.tar.gz /Library/Frameworks/R.framework/Resources/bin/R TreeAndLeaf.buildbin-libdir StartedAt: 2024-04-15 10:50:09 -0400 (Mon, 15 Apr 2024) EndedAt: 2024-04-15 10:50:17 -0400 (Mon, 15 Apr 2024) EllapsedTime: 7.9 seconds RetCode: 0 Status: OK PackageFile: TreeAndLeaf_1.14.0.tgz PackageFileSize: 3.161 MiB